BEGIN:VCALENDAR
VERSION:2.0
PRODID:-//Crystal Palace Band - ECPv6.15.20//NONSGML v1.0//EN
CALSCALE:GREGORIAN
METHOD:PUBLISH
X-WR-CALNAME:Crystal Palace Band
X-ORIGINAL-URL:https://crystalpalaceband.co.uk
X-WR-CALDESC:Events for Crystal Palace Band
REFRESH-INTERVAL;VALUE=DURATION:PT1H
X-Robots-Tag:noindex
X-PUBLISHED-TTL:PT1H
BEGIN:VTIMEZONE
TZID:Europe/London
BEGIN:DAYLIGHT
TZOFFSETFROM:+0000
TZOFFSETTO:+0100
TZNAME:BST
DTSTART:20240331T010000
END:DAYLIGHT
BEGIN:STANDARD
TZOFFSETFROM:+0100
TZOFFSETTO:+0000
TZNAME:GMT
DTSTART:20241027T010000
END:STANDARD
BEGIN:DAYLIGHT
TZOFFSETFROM:+0000
TZOFFSETTO:+0100
TZNAME:BST
DTSTART:20250330T010000
END:DAYLIGHT
BEGIN:STANDARD
TZOFFSETFROM:+0100
TZOFFSETTO:+0000
TZNAME:GMT
DTSTART:20251026T010000
END:STANDARD
BEGIN:DAYLIGHT
TZOFFSETFROM:+0000
TZOFFSETTO:+0100
TZNAME:BST
DTSTART:20260329T010000
END:DAYLIGHT
BEGIN:STANDARD
TZOFFSETFROM:+0100
TZOFFSETTO:+0000
TZNAME:GMT
DTSTART:20261025T010000
END:STANDARD
END:VTIMEZONE
BEGIN:VEVENT
DTSTART;TZID=Europe/London:20251130T150000
DTEND;TZID=Europe/London:20251130T170000
DTSTAMP:20260422T213758
CREATED:20251011T155352Z
LAST-MODIFIED:20251011T155352Z
UID:469-1764514800-1764522000@crystalpalaceband.co.uk
SUMMARY:Remembering With St Christopher's\, Orpington
DESCRIPTION:We are honoured to be providing music for the Remembering With St Christopher’s Event at their Hospice in Orpington. \nTogether we will remember our loved ones and honour the lives of those we hold dear as dedicated lights are lit in their memory. \nThe uplifting events give us time and space to be with our memories – a special moment devoted to those we will never forget. \nAnd in that moment\, together\, we find comfort\, share strength and help light the way for families this festive season.
URL:https://crystalpalaceband.co.uk/event/remembering-with-st-christophers-orpington/
LOCATION:St Christopher’s\, Orpington\, Caritas House\, Tregony Road\, Orpington\, Kent\, BR6 9XA\, United Kingdom
CATEGORIES:Concert
ATTACH;FMTTYPE=image/jpeg:https://crystalpalaceband.co.uk/wp-content/uploads/2025/10/stc-logo-web.jpg
END:VEVENT
END:VCALENDAR