BEGIN:VCALENDAR
VERSION:2.0
PRODID:-//Crystal Palace Band - ECPv6.15.20//NONSGML v1.0//EN
CALSCALE:GREGORIAN
METHOD:PUBLISH
X-WR-CALNAME:Crystal Palace Band
X-ORIGINAL-URL:https://crystalpalaceband.co.uk
X-WR-CALDESC:Events for Crystal Palace Band
REFRESH-INTERVAL;VALUE=DURATION:PT1H
X-Robots-Tag:noindex
X-PUBLISHED-TTL:PT1H
BEGIN:VTIMEZONE
TZID:Europe/London
BEGIN:DAYLIGHT
TZOFFSETFROM:+0000
TZOFFSETTO:+0100
TZNAME:BST
DTSTART:20250330T010000
END:DAYLIGHT
BEGIN:STANDARD
TZOFFSETFROM:+0100
TZOFFSETTO:+0000
TZNAME:GMT
DTSTART:20251026T010000
END:STANDARD
BEGIN:DAYLIGHT
TZOFFSETFROM:+0000
TZOFFSETTO:+0100
TZNAME:BST
DTSTART:20260329T010000
END:DAYLIGHT
BEGIN:STANDARD
TZOFFSETFROM:+0100
TZOFFSETTO:+0000
TZNAME:GMT
DTSTART:20261025T010000
END:STANDARD
BEGIN:DAYLIGHT
TZOFFSETFROM:+0000
TZOFFSETTO:+0100
TZNAME:BST
DTSTART:20270328T010000
END:DAYLIGHT
BEGIN:STANDARD
TZOFFSETFROM:+0100
TZOFFSETTO:+0000
TZNAME:GMT
DTSTART:20271031T010000
END:STANDARD
END:VTIMEZONE
BEGIN:VEVENT
DTSTART;VALUE=DATE:20260321
DTEND;VALUE=DATE:20260322
DTSTAMP:20260422T162503
CREATED:20260113T141220Z
LAST-MODIFIED:20260113T143740Z
UID:899-1774051200-1774137599@crystalpalaceband.co.uk
SUMMARY:London & Southern Counties Area Championships 2026
DESCRIPTION:We’re back in action on the contesting field with our annual visit to Stevenage to compete against 20 other bands to become the Fourth Section Champions in the Region. We will also be looking forward to representing the area in the National Championships in Cheltenham in September should we qualify. \nThis year\, the chosen piece of music is a classic by Eric Ball – Indian Summer. Not technically difficult\, but it will require our full musicianship and preparation to ensure we produce an outstanding performance.
URL:https://crystalpalaceband.co.uk/event/l-sc-area-championships/
LOCATION:Stevenage Arts and Leisure Centre\, Lytton Way\, Stevenage\, SG1 1LZ\, United Kingdom
CATEGORIES:Contest
ATTACH;FMTTYPE=image/jpeg:https://crystalpalaceband.co.uk/wp-content/uploads/2026/01/8553156c-d683-4f5c-a80a-bea5df61f233.jpg
END:VEVENT
END:VCALENDAR