BEGIN:VCALENDAR
VERSION:2.0
PRODID:-//Crystal Palace Band - ECPv6.15.20//NONSGML v1.0//EN
CALSCALE:GREGORIAN
METHOD:PUBLISH
X-WR-CALNAME:Crystal Palace Band
X-ORIGINAL-URL:https://crystalpalaceband.co.uk
X-WR-CALDESC:Events for Crystal Palace Band
REFRESH-INTERVAL;VALUE=DURATION:PT1H
X-Robots-Tag:noindex
X-PUBLISHED-TTL:PT1H
BEGIN:VTIMEZONE
TZID:Europe/London
BEGIN:DAYLIGHT
TZOFFSETFROM:+0000
TZOFFSETTO:+0100
TZNAME:BST
DTSTART:20250330T010000
END:DAYLIGHT
BEGIN:STANDARD
TZOFFSETFROM:+0100
TZOFFSETTO:+0000
TZNAME:GMT
DTSTART:20251026T010000
END:STANDARD
BEGIN:DAYLIGHT
TZOFFSETFROM:+0000
TZOFFSETTO:+0100
TZNAME:BST
DTSTART:20260329T010000
END:DAYLIGHT
BEGIN:STANDARD
TZOFFSETFROM:+0100
TZOFFSETTO:+0000
TZNAME:GMT
DTSTART:20261025T010000
END:STANDARD
BEGIN:DAYLIGHT
TZOFFSETFROM:+0000
TZOFFSETTO:+0100
TZNAME:BST
DTSTART:20270328T010000
END:DAYLIGHT
BEGIN:STANDARD
TZOFFSETFROM:+0100
TZOFFSETTO:+0000
TZNAME:GMT
DTSTART:20271031T010000
END:STANDARD
END:VTIMEZONE
BEGIN:VEVENT
DTSTART;VALUE=DATE:20260426
DTEND;VALUE=DATE:20260427
DTSTAMP:20260422T110222
CREATED:20260113T143509Z
LAST-MODIFIED:20260113T143509Z
UID:909-1777161600-1777247999@crystalpalaceband.co.uk
SUMMARY:London Marathon 2026
DESCRIPTION:We’re back on the track supporting Cystic Fibrosis and putting a bit of fire into the competitors and fun runners as they complete the 2026 instance of the London Marathon. \nNot yet quite sure where we will be stationed this year\, but if it is the same as last year it was just before Westminster Bridge within sight of Big Ben.
URL:https://crystalpalaceband.co.uk/event/london-marathon-2026/
CATEGORIES:Community
ATTACH;FMTTYPE=image/jpeg:https://crystalpalaceband.co.uk/wp-content/uploads/2026/01/c0275a2f-bcf3-4df5-baea-7b0dedd1b75d-e1768314994468.jpg
END:VEVENT
BEGIN:VEVENT
DTSTART;TZID=Europe/London:20260517T150000
DTEND;TZID=Europe/London:20260517T170000
DTSTAMP:20260422T110222
CREATED:20260113T144719Z
LAST-MODIFIED:20260113T144719Z
UID:913-1779030000-1779037200@crystalpalaceband.co.uk
SUMMARY:Crystal Palace Park Summer Sounds
DESCRIPTION:Join us for the Summer Sounds Festival in Crystal Palace Park. We’ll be playing a concert of summer music\, amongst others obviously\, to bring in the summer. We’re expecting to play on the Rusty Laptop to an excited audience of picnic-ers on a lovely summer afternoon. Bring the hamper and Champers!
URL:https://crystalpalaceband.co.uk/event/crystal-palace-park-summer-sounds/
LOCATION:Crystal Palace Park\, Thicket Road\, London\, SE19 2GA\, United Kingdom
CATEGORIES:Concert
ATTACH;FMTTYPE=image/jpeg:https://crystalpalaceband.co.uk/wp-content/uploads/2026/01/e90c4ec4-3e8d-45ba-8b80-1df85d834f8a.jpg
END:VEVENT
BEGIN:VEVENT
DTSTART;VALUE=DATE:20260529
DTEND;VALUE=DATE:20260530
DTSTAMP:20260422T110222
CREATED:20260113T145444Z
LAST-MODIFIED:20260113T145444Z
UID:917-1780012800-1780099199@crystalpalaceband.co.uk
SUMMARY:Whit Friday Marches 2026
DESCRIPTION:We’re hoping to bring a band to the “Greatest Free Show on Earth” – the Whit Friday Marches contests around Saddleworth. Join us and hundreds of other brass bands as we try to win up to 15 cometitions in one night! No-one has\, obviously\, but we’ll give it a try. The best bands of the world will be there – Black Dyke\, Grimethorpe\, Brighouse etc  – and the best way of experiencing it is to choose a location and stay and watch the show as the multitude of bands pass by on their way to “Death or Glory”. \nThe https://saddleworthwhitfriday.co.uk/ site will have all of the details you need.
URL:https://crystalpalaceband.co.uk/event/whit-friday-marches-2026/
ATTACH;FMTTYPE=image/jpeg:https://crystalpalaceband.co.uk/wp-content/uploads/2025/10/cropped-whit-6.jpg
END:VEVENT
BEGIN:VEVENT
DTSTART;TZID=Europe/London:20260705T130000
DTEND;TZID=Europe/London:20260705T160000
DTSTAMP:20260422T110222
CREATED:20260113T150025Z
LAST-MODIFIED:20260113T150025Z
UID:919-1783256400-1783267200@crystalpalaceband.co.uk
SUMMARY:Victoria Gardens\, Broadstairs
DESCRIPTION:We’ll be playing down by the seaside on the prom\, prom prom again this summer. Always a pleasure to play down in Broadstairs in Kent! Come and have an icecream and a listen. You might even hear Tom tell his joke about Adam!
URL:https://crystalpalaceband.co.uk/event/victoria-gardens-broadstairs/
LOCATION:Victoria Gardens\, Broadstairs\, Victoria Parade\, Broadstairs\, CT10 1QS\, United Kingdom
ATTACH;FMTTYPE=image/jpeg:https://crystalpalaceband.co.uk/wp-content/uploads/2025/10/Broadstairs-2.jpg
END:VEVENT
BEGIN:VEVENT
DTSTART;TZID=Europe/London:20260913T130000
DTEND;TZID=Europe/London:20260913T160000
DTSTAMP:20260422T110222
CREATED:20260113T150939Z
LAST-MODIFIED:20260113T150939Z
UID:922-1789304400-1789315200@crystalpalaceband.co.uk
SUMMARY:Deal Memorial Bandstand
DESCRIPTION:We’re back on our annual visit to the seaside at Deal to contribute to the lovely series of events that the Deal Memorial Bandstand Trust put on each summer. Grab an icecream\, pull up a deckchair and enjoy some fantastic music by the sea.
URL:https://crystalpalaceband.co.uk/event/deal-memorial-bandstand/
LOCATION:Deal Memorial Bandstand\, The Strand\, Walmer\, Kent\, CT14 7DX\, United Kingdom
CATEGORIES:Concert
ATTACH;FMTTYPE=image/jpeg:https://crystalpalaceband.co.uk/wp-content/uploads/2026/01/73262896-2c9b-4688-b09a-7c1cdf3ef0a9-scaled.jpg
END:VEVENT
BEGIN:VEVENT
DTSTART;TZID=Europe/London:20261108T100000
DTEND;TZID=Europe/London:20261108T120000
DTSTAMP:20260422T110222
CREATED:20260113T151251Z
LAST-MODIFIED:20260113T151251Z
UID:926-1794132000-1794139200@crystalpalaceband.co.uk
SUMMARY:Beckenham Remembrance Sunday Service
DESCRIPTION:We’re honoured to be accompanying the Annual Remembrance service at Beckenham War Memorial again in 2026.
URL:https://crystalpalaceband.co.uk/event/beckenham-remembrance-sunday-service/
LOCATION:Beckenham War Memorial\, High Street\, Beckenham\, BR3 1DY\, United Kingdom
CATEGORIES:Community
ATTACH;FMTTYPE=image/jpeg:https://crystalpalaceband.co.uk/wp-content/uploads/2025/10/6c9b107e-d8f5-405e-90b4-4a3a7c740e91-scaled-e1760129957309.jpg
END:VEVENT
END:VCALENDAR