BEGIN:VCALENDAR
VERSION:2.0
PRODID:-//Crystal Palace Band - ECPv6.15.20//NONSGML v1.0//EN
CALSCALE:GREGORIAN
METHOD:PUBLISH
X-WR-CALNAME:Crystal Palace Band
X-ORIGINAL-URL:https://crystalpalaceband.co.uk
X-WR-CALDESC:Events for Crystal Palace Band
REFRESH-INTERVAL;VALUE=DURATION:PT1H
X-Robots-Tag:noindex
X-PUBLISHED-TTL:PT1H
BEGIN:VTIMEZONE
TZID:Europe/London
BEGIN:DAYLIGHT
TZOFFSETFROM:+0000
TZOFFSETTO:+0100
TZNAME:BST
DTSTART:20240331T010000
END:DAYLIGHT
BEGIN:STANDARD
TZOFFSETFROM:+0100
TZOFFSETTO:+0000
TZNAME:GMT
DTSTART:20241027T010000
END:STANDARD
BEGIN:DAYLIGHT
TZOFFSETFROM:+0000
TZOFFSETTO:+0100
TZNAME:BST
DTSTART:20250330T010000
END:DAYLIGHT
BEGIN:STANDARD
TZOFFSETFROM:+0100
TZOFFSETTO:+0000
TZNAME:GMT
DTSTART:20251026T010000
END:STANDARD
BEGIN:DAYLIGHT
TZOFFSETFROM:+0000
TZOFFSETTO:+0100
TZNAME:BST
DTSTART:20260329T010000
END:DAYLIGHT
BEGIN:STANDARD
TZOFFSETFROM:+0100
TZOFFSETTO:+0000
TZNAME:GMT
DTSTART:20261025T010000
END:STANDARD
END:VTIMEZONE
BEGIN:VEVENT
DTSTART;TZID=Europe/London:20251127T180000
DTEND;TZID=Europe/London:20251127T230000
DTSTAMP:20260423T000505
CREATED:20251125T181500Z
LAST-MODIFIED:20251125T181500Z
UID:818-1764266400-1764284400@crystalpalaceband.co.uk
SUMMARY:Crystal Palace Xmas Light Switch On
DESCRIPTION:It’s the big extravaganza – Crystal Palace Xmas starts here at the Westow House on Thursday 27th November 6pm all the way to 11pm. We’re playing from 7pm  \nThe lights of Crystal Palace will be switched on at 7:30pm – we understand that they might be visible from the moon. \nThere’ll be carols\, live entertainment\, good food and an outside bar (and an inside one if it gets wet!). Bring your festive hats and loud voices.
URL:https://crystalpalaceband.co.uk/event/crystal-palace-xmas-light-switch-on/
LOCATION:Westow House\, 79 Westow Hill\, Crystal Palace\, SE19 1TX\, United Kingdom
CATEGORIES:Concert
ATTACH;FMTTYPE=image/jpeg:https://crystalpalaceband.co.uk/wp-content/uploads/2025/11/westow-house.jpg
END:VEVENT
END:VCALENDAR